BEGIN:VCALENDAR
VERSION:2.0
PRODID:-//ICF ITALIA - ECPv6.15.20//NONSGML v1.0//EN
CALSCALE:GREGORIAN
METHOD:PUBLISH
X-WR-CALNAME:ICF ITALIA
X-ORIGINAL-URL:https://www.coachingfederation.it
X-WR-CALDESC:Eventi per ICF ITALIA
REFRESH-INTERVAL;VALUE=DURATION:PT1H
X-Robots-Tag:noindex
X-PUBLISHED-TTL:PT1H
BEGIN:VTIMEZONE
TZID:Europe/Rome
BEGIN:DAYLIGHT
TZOFFSETFROM:+0100
TZOFFSETTO:+0200
TZNAME:CEST
DTSTART:20230326T010000
END:DAYLIGHT
BEGIN:STANDARD
TZOFFSETFROM:+0200
TZOFFSETTO:+0100
TZNAME:CET
DTSTART:20231029T010000
END:STANDARD
BEGIN:DAYLIGHT
TZOFFSETFROM:+0100
TZOFFSETTO:+0200
TZNAME:CEST
DTSTART:20240331T010000
END:DAYLIGHT
BEGIN:STANDARD
TZOFFSETFROM:+0200
TZOFFSETTO:+0100
TZNAME:CET
DTSTART:20241027T010000
END:STANDARD
BEGIN:DAYLIGHT
TZOFFSETFROM:+0100
TZOFFSETTO:+0200
TZNAME:CEST
DTSTART:20250330T010000
END:DAYLIGHT
BEGIN:STANDARD
TZOFFSETFROM:+0200
TZOFFSETTO:+0100
TZNAME:CET
DTSTART:20251026T010000
END:STANDARD
END:VTIMEZONE
BEGIN:VEVENT
DTSTART;TZID=Europe/Rome:20240515T190000
DTEND;TZID=Europe/Rome:20240515T210000
DTSTAMP:20260420T184401
CREATED:20240424T213556Z
LAST-MODIFIED:20240529T102908Z
UID:10000021-1715799600-1715806800@www.coachingfederation.it
SUMMARY:Il mentoring nel coaching
DESCRIPTION:Contenuti\nIl Coaching Lab si svolgerà il 15 maggio a Roma a partire dalle ore 19 presso\nAbitart Hotel Conference Center- Via Pellegrino Matteucci\, 10 Rome – Phone: +39 06 45 43 191 \nL’obiettivo dell’evento è capire le caratteristiche del mentoring e come pratica di coaching e feedback. Nell’incontro sarà possibile praticarlo. \nI partecipanti Impareranno ad utilizzare i diversi approcci per svilupparsi come Coach e migliorarsi professionalmente. \n  \nCOMPETENZE ICF \n2. Incarna il Coaching mindset \n6. Ascolta attivamente \n  \nRELATORE \nLeonella Cardosi\nDopo aver lavorato per molti anni come Senior Consultant in società di formazione\, dal 2007 è una Coach professionista con credenziali PCC. E` una Corporate e Executive Coach ed allena\, tra l’altro\, persone e team alla riscoperta di un nuovo modello di leadership utile al clima aziendale e allo sviluppo delle persone. È Mentor Coach iscritta al registro ICF e Supervisor per diverse scuole di coaching. \n  \nNote di recesso\nCon la conferma di partecipazione all’evento si accettano le seguenti condizioni: in caso di annullamento da parte del partecipante entro 14 giorni dall’acquisto\, è previsto il rimborso del 100% dell’importo pagato; successivamente\, sino a 7 giorni prima della data di erogazione dell’evento verrà trattenuto il 50% dell’importo; in seguito\, non è previsto alcun rimborso. L’esercizio del diritto di recesso e di rimborso dovrà avvenire in forma scritta e la comunicazione dovrà essere inviata a segreteria@coachingfederation.it\, farà fede la data di ricevimento della comunicazione di recesso. Nel caso di annullamento dell’evento da parte di ICF Italia\, il rimborso integrale dell’importo corrisposto sarà effettuato entro 15 giorni dalla data dell’evento. Eventuali cancellazioni devono essere notificate per iscritto a segreteria@coachingfederation.it. Al posto della cancellazione può essere richiesta la sostituzione del partecipante con un altro\, purché abbia il medesimo status. La realizzazione dell’evento è strettamente dipendente dal numero dei biglietti acquistati.
URL:https://www.coachingfederation.it/evento/mentoring-e-supervisione-nel-coaching-secondo-icf/
LOCATION:Abitart Hotel Conference Center – Via Pellegrino Matteucci\, 10 Rome\, Abitart Hotel Conference Center- Via Pellegrino Matteucci\, 10\, Roma\, Italia
ATTACH;FMTTYPE=image/jpeg:https://www.coachingfederation.it/wp-content/uploads/2024/05/CoachingLab_Il-mentoring-nel-coaching.jpg
END:VEVENT
BEGIN:VEVENT
DTSTART;TZID=Europe/Rome:20240515T170000
DTEND;TZID=Europe/Rome:20240515T200000
DTSTAMP:20260420T184401
CREATED:20240423T113327Z
LAST-MODIFIED:20240529T102659Z
UID:10000017-1715792400-1715803200@www.coachingfederation.it
SUMMARY:Local Ambassador Day 2024
DESCRIPTION:Di nuovo insieme su tutto il territorio nazionale! \nL’evento che porta il coaching direttamente “a casa” è ritornato. \nIn contemporanea nazionale anche quest’anno il 15 maggio\, si svolgerà il Local Ambassador Day. L’evento\, svolto grazie al prezioso contributo svolto dai Local Ambassador sul territorio\, si realizza attraverso eventi locali che hanno l’obiettivo di divulgare la cultura del coaching secondo ICF presso le istituzioni locali e sviluppano connessioni tra gli associati regionali. \nIspirati al tema dell’anno Competenza ed Esperienza\, i nostri Ambassador hanno organizzato numerosi incontri in presenza e online con il desiderio sia di generare connessioni tra persone grazie alla partecipazione e ai contributi di molti\, sia nutrire il nostro essere coach nel mondo\, attraverso multi-sfaccettati incontri e scambi. \nNon perdere questa occasione aperta a tutti\, per conoscere ICF Italia e i suoi associati. \nLeggi il programma e partecipa all’evento locale più vicino a te. \nIscriverti è semplice\, basta un click sul link dell’evento della tua Regione (elenco in aggiornamento): \n\nPiemonte\, Liguria\, Valle D’Aosta| Allenare la mente: tecniche per migliorare le performance nello sport | in presenza\nLazio | La meditazione e il coaching | in presenza\nLombardia | Ricevere un pesce o imparare a pescare? Trasformarsi e crescere con il potere del coaching | in presenza\nMarche\, Abruzzo\, Umbria ed Emilia Romagna | Il futuro è adesso | online\nPuglia\, Campania\, Basilicata\, Calabria | Ispirare con generosità: Leadership sostenibile | online\nSardegna | Il Coaching per trasformare l’Esperienza in Competenza | in presenza\nSicilia | Empowerment e coaching | in presenza\nToscana | Abita l’oggi ed Immagina il tuo domani | in presenza\n\nGli eventi sono a numero chiuso: se non trovi posto nell’evento da te scelto o in quello dedicato alla tua regione\, cerca tra gli altri disponibili
URL:https://www.coachingfederation.it/evento/local-ambassador-day-2024/
ATTACH;FMTTYPE=image/jpeg:https://www.coachingfederation.it/wp-content/uploads/2024/04/Local-Ambassador-day-2024-1.jpg
LOCATION:https://www.coachingfederation.it/evento/local-ambassador-day-2024/
END:VEVENT
BEGIN:VEVENT
DTSTART;TZID=Europe/Rome:20240508T180000
DTEND;TZID=Europe/Rome:20240508T200000
DTSTAMP:20260420T184401
CREATED:20240423T093239Z
LAST-MODIFIED:20240529T102838Z
UID:10000015-1715191200-1715198400@www.coachingfederation.it
SUMMARY:Coaching trasformativo: Voice Dialogue
DESCRIPTION:Contenuti\nL’obiettivo di questo webinar è quello di far conoscere la tecnica di Voice Dialogue come strumento trasformativo al servizio dei coach e dei loro clienti. \nLa tecnica di Facilitazione di Voice Dialogue lavora sia sul coach che sul cliente: \n\nper il coach\, aumenta la sua autoconsapevolezza\, ascolto e presenza nei confronti del cliente\, quindi la capacità di fare domande potenti.\nper il cliente\, crea momenti di consapevolezza duraturi nel tempo\, in quanto lavora su diversi livelli: cognitivo\, corporeo\, emotivo\n\nI contenuti di questo webinar dimostreranno come le competenze ICF vengano esaltate attraverso l’utilizzo di questo strumento: \n\nASCOLTO: andremo oltre l’ascolto verbale/paraverbale\, ascolteremo le nostre diverse sub-personalità\nPRESENZA: come stare in presenza di diverse energie\, anche quelle molto distanti da noi\nCONSAPEVOLEZZA: continuo processo di conoscenza di sé stessi finalizzato all’integrazione delle nostre sub-personalità per un migliore benessere.\n\nVi invitiamo a partecipare a questo webinar per conoscere meglio la potenza di questa tecnica e acquisire qualche tool che vi aiuterà già nell’immediato a fare la differenza come professionisti\, aumentando la qualità del servizio offerto ai vostri clienti. \n  \nCompetenze ICF\n2. Incarna il Coaching mindset\n4. Coltiva fiducia e sicurezza\n5. Mantiene la presenza\n6. Ascolta attivamente\n7. Evoca consapevolezza\n8. Facilita la crescita del cliente \n  \nRelatori\nMarzia Iori\nCoach MCC ICF\, Mentor e Assessor ICF\, Supervisore\, trainer e facilitatore in programmi di Leadership e Facilitatore Voice Dialogue. Ho alle spalle oltre 30 anni nel settore bancario come responsabile L&D\, oltre ad altri incarichi. Il Voice Dialogue fa parte della mia vita dal 2013\, quando sono stato formato direttamente da John Kent. Continuo a investire nel mio miglioramento continuo attraverso la supervisione di allenatori di fama mondiale come J’aime Ona Pangaia. \nDanny Buccilli\nCoach PCC ICF. Assessor di Intelligenza Emotiva e anche un Facilitatore di Voice Dialogue. Alle mie spalle ho un’esperienza aziendale decennale\, avendo ricoperto ruoli manageriali nell’area marketing di alcune multinazionali di beni di consumo. Il Voice Dialogue gioca un ruolo fondamentale nel mio sviluppo personale e professionale in quanto mi permette di lavorare sulla mia mission: favorire la scoperta dei nostri sé interiori come inesauribili fonti di energia. \n  \nNote di recesso\nCon la conferma di partecipazione all’evento si accettano le seguenti condizioni: in caso di annullamento da parte del partecipante entro 14 giorni dall’acquisto\, è previsto il rimborso del 100% dell’importo pagato; successivamente\, sino a 7 giorni prima della data di erogazione dell’evento verrà trattenuto il 50% dell’importo; in seguito\, non è previsto alcun rimborso. L’esercizio del diritto di recesso e di rimborso dovrà avvenire in forma scritta e la comunicazione dovrà essere inviata a segreteria@coachingfederation.it\, farà fede la data di ricevimento della comunicazione di recesso. Nel caso di annullamento dell’evento da parte di ICF Italia\, il rimborso integrale dell’importo corrisposto sarà effettuato entro 15 giorni dalla data dell’evento. Eventuali cancellazioni devono essere notificate per iscritto a segreteria@coachingfederation.it. Al posto della cancellazione può essere richiesta la sostituzione del partecipante con un altro\, purché abbia il medesimo status. La realizzazione dell’evento è strettamente dipendente dal numero dei biglietti acquistati.
URL:https://www.coachingfederation.it/evento/coaching-trasformativo-voice-dialogue/
LOCATION:online
ATTACH;FMTTYPE=image/png:https://www.coachingfederation.it/wp-content/uploads/2024/04/Masterclass-08-05-24.png
END:VEVENT
END:VCALENDAR