BEGIN:VCALENDAR
VERSION:2.0
PRODID:-//ICF ITALIA - ECPv6.15.20//NONSGML v1.0//EN
CALSCALE:GREGORIAN
METHOD:PUBLISH
X-ORIGINAL-URL:https://www.coachingfederation.it
X-WR-CALDESC:Eventi per ICF ITALIA
REFRESH-INTERVAL;VALUE=DURATION:PT1H
X-Robots-Tag:noindex
X-PUBLISHED-TTL:PT1H
BEGIN:VTIMEZONE
TZID:Europe/Rome
BEGIN:DAYLIGHT
TZOFFSETFROM:+0100
TZOFFSETTO:+0200
TZNAME:CEST
DTSTART:20240331T010000
END:DAYLIGHT
BEGIN:STANDARD
TZOFFSETFROM:+0200
TZOFFSETTO:+0100
TZNAME:CET
DTSTART:20241027T010000
END:STANDARD
BEGIN:DAYLIGHT
TZOFFSETFROM:+0100
TZOFFSETTO:+0200
TZNAME:CEST
DTSTART:20250330T010000
END:DAYLIGHT
BEGIN:STANDARD
TZOFFSETFROM:+0200
TZOFFSETTO:+0100
TZNAME:CET
DTSTART:20251026T010000
END:STANDARD
BEGIN:DAYLIGHT
TZOFFSETFROM:+0100
TZOFFSETTO:+0200
TZNAME:CEST
DTSTART:20260329T010000
END:DAYLIGHT
BEGIN:STANDARD
TZOFFSETFROM:+0200
TZOFFSETTO:+0100
TZNAME:CET
DTSTART:20261025T010000
END:STANDARD
END:VTIMEZONE
BEGIN:VEVENT
DTSTART;TZID=Europe/Rome:20250326T180000
DTEND;TZID=Europe/Rome:20250326T200000
DTSTAMP:20260421T054524
CREATED:20250307T144316Z
LAST-MODIFIED:20250320T171802Z
UID:10000149-1743012000-1743019200@www.coachingfederation.it
SUMMARY:Eccellenza nel Coaching e Neuroscienze
DESCRIPTION:Contenuti\nL’eccellenza nel coaching non si basa solo su tecniche efficaci\, ma richiede una profonda comprensione del funzionamento del cervello e competenze avanzate che vanno oltre metodi\, modelli o filosofie. \nÈ essenziale coltivare una pratica costante\, affinare la consapevolezza con respiro e meditazione\, sviluppare la capacità di navigare in sistemi complessi e integrare la supervisione come strumento di crescita. \nQuesto webinar offre una prospettiva più ampia sulle neuroscienze applicate al coaching\, fornendo strumenti concreti per potenziare l’efficacia delle sessioni e ottimizzare l’intero percorso trasformativo. \nEsploreremo concetti chiave come neuroplasticità e neurogenesi\, l’uso strategico dei bias\, le dinamiche della regolazione emotiva e la gestione delle emozioni proprie e altrui durante le sessioni. Approfondiremo inoltre strategie per superare le resistenze al cambiamento e perfezionare il linguaggio in modo da stimolare nuove connessioni neurali e favorire insight. \nAttraverso esempi pratici\, tecniche dialettiche e momenti interattivi\, potrete acquisire strumenti per formulare domande\, facilitare il cambiamento\, sviluppare consapevolezza e accompagnare i clienti verso un’evoluzione autentica e sostenibile. \nNon perdete questa opportunità per arricchire la vostra pratica e amplificare l’impatto del coaching con un approccio ancora più efficace e trasformativo! \n  \nCompetenze ICF\n2. Incarna il Coaching mindset\,\n4. Coltiva fiducia e sicurezza\,\n5. Mantiene la presenza\,\n6. Ascolta attivamente\,\n7. Evoca consapevolezza\,\n8. Facilita la crescita del cliente \n  \nRelatore\nFederico O. Petrozzi PsyD MCC (ICF)\nIn 40 anni di esperienza nella gestione\, sviluppo e formazione delle risorse umane ho ricoperto ruoli di leadership in aziende internazionali\, per 14 anni sono stato Amministratore Delegato di una società di consulenza e dal 2016 sono Solopreneur di Neuro Coaching. La mia carriera è stata sempre guidata dalla missione di liberare il potenziale di persone e team\, favorendo lo sviluppo di consapevolezza utilizzando un approccio eclettico sistemico basato su neuroscienze e pratiche meditative. \n  \nNote di recesso\nCon la conferma di partecipazione all’evento si accettano le seguenti condizioni: in caso di annullamento da parte del partecipante entro 14 giorni dall’acquisto\, è previsto il rimborso del 100% dell’importo pagato; successivamente\, sino a 7 giorni prima della data di erogazione dell’evento verrà trattenuto il 50% dell’importo; in seguito\, non è previsto alcun rimborso. L’esercizio del diritto di recesso e di rimborso dovrà avvenire in forma scritta e la comunicazione dovrà essere inviata a segreteria@coachingfederation.it\, farà fede la data di ricevimento della comunicazione di recesso. Nel caso di annullamento dell’evento da parte di ICF Italia\, il rimborso integrale dell’importo corrisposto sarà effettuato entro 15 giorni dalla data dell’evento. Eventuali cancellazioni devono essere notificate per iscritto a segreteria@coachingfederation.it. Al posto della cancellazione può essere richiesta la sostituzione del partecipante con un altro\, purché abbia il medesimo status. La realizzazione dell’evento è strettamente dipendente dal numero dei biglietti acquistati. \n  \nLiberatoria immagini e video\nCon la conferma di partecipazione all’evento si accettano le seguenti condizioni: In relazione alla registrazione\, conservazione ed uso\, delle immagini che mi riguardano Conferendo il consenso al trattamento per la finalità n°10 autorizzo ICF Italia ad utilizzare il materiale audio e video raccolto\, a titolo gratuito\, anche ai sensi degli artt. 10 e 320 cod.civ. e degli artt. 96 e 97 legge 22.4.1941\, n. 633\, Legge sul diritto d’autore\, come altresì illustrato nei Termini e Condizioni.
URL:https://www.coachingfederation.it/evento/eccellenza-nel-coaching-e-neuroscienze/
LOCATION:online
ATTACH;FMTTYPE=image/png:https://www.coachingfederation.it/wp-content/uploads/2025/03/Esplorare-il-Codice-Etico-2025-Metodi-Pratici-per-Ottimizzare-il-Cambiamento-1.png
END:VEVENT
END:VCALENDAR