BEGIN:VCALENDAR
VERSION:2.0
PRODID:-//ICF ITALIA - ECPv6.15.20//NONSGML v1.0//EN
CALSCALE:GREGORIAN
METHOD:PUBLISH
X-ORIGINAL-URL:https://www.coachingfederation.it
X-WR-CALDESC:Eventi per ICF ITALIA
REFRESH-INTERVAL;VALUE=DURATION:PT1H
X-Robots-Tag:noindex
X-PUBLISHED-TTL:PT1H
BEGIN:VTIMEZONE
TZID:Europe/Rome
BEGIN:DAYLIGHT
TZOFFSETFROM:+0100
TZOFFSETTO:+0200
TZNAME:CEST
DTSTART:20250330T010000
END:DAYLIGHT
BEGIN:STANDARD
TZOFFSETFROM:+0200
TZOFFSETTO:+0100
TZNAME:CET
DTSTART:20251026T010000
END:STANDARD
BEGIN:DAYLIGHT
TZOFFSETFROM:+0100
TZOFFSETTO:+0200
TZNAME:CEST
DTSTART:20260329T010000
END:DAYLIGHT
BEGIN:STANDARD
TZOFFSETFROM:+0200
TZOFFSETTO:+0100
TZNAME:CET
DTSTART:20261025T010000
END:STANDARD
BEGIN:DAYLIGHT
TZOFFSETFROM:+0100
TZOFFSETTO:+0200
TZNAME:CEST
DTSTART:20270328T010000
END:DAYLIGHT
BEGIN:STANDARD
TZOFFSETFROM:+0200
TZOFFSETTO:+0100
TZNAME:CET
DTSTART:20271031T010000
END:STANDARD
END:VTIMEZONE
BEGIN:VEVENT
DTSTART;TZID=Europe/Rome:20260511T060000
DTEND;TZID=Europe/Rome:20260517T200000
DTSTAMP:20260421T211957
CREATED:20260323T152001Z
LAST-MODIFIED:20260323T152517Z
UID:10000309-1778479200-1779048000@www.coachingfederation.it
SUMMARY:Settimana Internazionale del Coaching
DESCRIPTION:ICW è l’evento creato da ICF per diffondere il coaching a livello mondiale. Durante la settimana dal 11 al 17 maggio\, tutti i coach ICF del mondo danno il loro contributo organizzando eventi per portare il coaching a un pubblico più ampio\, offrendo momenti di confronto\, crescita e sviluppo personale e professionale.  \n  \nVUOI CREARE IL TUO EVENTO?\nCome Associato ICF Italia contribuisci a rendere questa celebrazione globale un successo:\ninizia ora ad organizzare e creare i tuoi eventi\, on line ed in presenza.\nGli eventi possono essere di qualunque genere: webinar\, conferenze\, workshop\, dimostrazioni pubbliche di sessioni di coaching. L’obiettivo è far scoprire il Coaching e come il coaching può migliorare la collaborazione\, supportare la gestione del cambiamento e aumentare le prestazioni dell’individuo e del team.\nLa pubblicazione dell’evento è gestita dalla piattaforma di ICF Global.\nCrea ed inserisci qui il tuo evento:\nInternational Coaching Week Events – ICF Events \n \nCerchi idee ed ispirazione per il tuo evento? Vuoi rivivere l’emozioni degli anni scorsi? \nClicca qui: All Archived Events – ICF Events \n  \nVUOI PARTECIPARE ED ISCRIVERTI AD UN EVENTO?\nGli eventi ICW sono offerti in più lingue e fusi orari\, sono un’opportunità inclusiva per esplorare\, imparare e sperimentare le infinite possibilità offerte dal coaching.\nSfoglia l’elenco degli eventi ad oggi registrati e scegli quello maggiormente interessante per te.\nLe iscrizioni agli eventi avvengono sulla piattaforma di ICF Global.\nClicca qui :\nInternational Coaching Week Events – ICF Events
URL:https://www.coachingfederation.it/evento/settimana-internazionale-del-coaching/
LOCATION:online
ATTACH;FMTTYPE=image/png:https://www.coachingfederation.it/wp-content/uploads/2026/03/Papaya-International-Coaching-Week-2026-Locandina-Evento.png
END:VEVENT
END:VCALENDAR