BEGIN:VCALENDAR
VERSION:2.0
PRODID:-//ICF ITALIA - ECPv6.15.20//NONSGML v1.0//EN
CALSCALE:GREGORIAN
METHOD:PUBLISH
X-WR-CALNAME:ICF ITALIA
X-ORIGINAL-URL:https://www.coachingfederation.it
X-WR-CALDESC:Eventi per ICF ITALIA
REFRESH-INTERVAL;VALUE=DURATION:PT1H
X-Robots-Tag:noindex
X-PUBLISHED-TTL:PT1H
BEGIN:VTIMEZONE
TZID:Europe/Rome
BEGIN:DAYLIGHT
TZOFFSETFROM:+0100
TZOFFSETTO:+0200
TZNAME:CEST
DTSTART:20230326T010000
END:DAYLIGHT
BEGIN:STANDARD
TZOFFSETFROM:+0200
TZOFFSETTO:+0100
TZNAME:CET
DTSTART:20231029T010000
END:STANDARD
BEGIN:DAYLIGHT
TZOFFSETFROM:+0100
TZOFFSETTO:+0200
TZNAME:CEST
DTSTART:20240331T010000
END:DAYLIGHT
BEGIN:STANDARD
TZOFFSETFROM:+0200
TZOFFSETTO:+0100
TZNAME:CET
DTSTART:20241027T010000
END:STANDARD
BEGIN:DAYLIGHT
TZOFFSETFROM:+0100
TZOFFSETTO:+0200
TZNAME:CEST
DTSTART:20250330T010000
END:DAYLIGHT
BEGIN:STANDARD
TZOFFSETFROM:+0200
TZOFFSETTO:+0100
TZNAME:CET
DTSTART:20251026T010000
END:STANDARD
END:VTIMEZONE
BEGIN:VEVENT
DTSTART;TZID=Europe/Rome:20240528T183000
DTEND;TZID=Europe/Rome:20240528T200000
DTSTAMP:20260420T153634
CREATED:20240430T204109Z
LAST-MODIFIED:20240529T102559Z
UID:10000031-1716921000-1716926400@www.coachingfederation.it
SUMMARY:ICF Italia: Work in Progress - Special Edition Web
DESCRIPTION:Contenuti\nIn questa Edizione Speciale parleremo del nuovo sito web. Vi presenteremo tutte le novità che la nuova piattaforma potrà offrire agli associati e a chiunque approdi sulle nostre pagine web. \nDal TrovaCoach all’Area Riservata tutto sarà rinnovato e ottimizzato sia per l’accesso da pc sia da dispositivo mobile. \nTi aspettiamo.
URL:https://www.coachingfederation.it/evento/icf-italia-work-in-progress-special-edition-web/
LOCATION:online
ATTACH;FMTTYPE=image/gif:https://www.coachingfederation.it/wp-content/uploads/2024/04/wip-28-maggio.gif
END:VEVENT
END:VCALENDAR